BEGIN:VCALENDAR
VERSION:2.0
PRODID:-//Jeffs Diving World - ECPv4.9.13//NONSGML v1.0//EN
CALSCALE:GREGORIAN
METHOD:PUBLISH
X-WR-CALNAME:Jeffs Diving World
X-ORIGINAL-URL:http://jeffsdivingworld.co.uk
X-WR-CALDESC:Events for Jeffs Diving World
BEGIN:VTIMEZONE
TZID:Europe/London
BEGIN:DAYLIGHT
TZOFFSETFROM:+0000
TZOFFSETTO:+0100
TZNAME:BST
DTSTART:20260329T010000
END:DAYLIGHT
BEGIN:STANDARD
TZOFFSETFROM:+0100
TZOFFSETTO:+0000
TZNAME:GMT
DTSTART:20261025T010000
END:STANDARD
END:VTIMEZONE
BEGIN:VEVENT
DTSTART;TZID=Europe/London:20260403T080000
DTEND;TZID=Europe/London:20260406T170000
DTSTAMP:20260421T210916
CREATED:20260217T101353Z
LAST-MODIFIED:20260330T105154Z
UID:13645-1775203200-1775494800@jeffsdivingworld.co.uk
SUMMARY:Easter Diving Weekend with Jeff’s Diving World
DESCRIPTION: \n\nDUE TO LACK OF INTEREST – We have sadly had to cancel this dive due to lack of interest. IIf you would like to join our list of diving events and dive trips abroad\, please contact Jeff today. \n\nLocation: Looe\, Cornwall (Service areas include Porthkerris\, Devon\, and the wider South West). \nDates: April 3rd – April 6th\, 2026 (Easter Bank Holiday Weekend) \nTarget Audience: Qualified Divers\, Families\, and Future Ocean Ambassadors. \n\nEvent Highlights & Activities\n\n\nGuided Easter Dives: Explore the clear blue waters of the Cornwall coast. Jeff’s Diving World often focuses on sites like Porthkerris and the Lizard Peninsula\, known for excellent visibility and diverse marine life. \n\n\nRock Pooling & Education: A family-friendly “Rock Pooling Day Out” in Looe. This includes identification books and containers to safely observe and release local marine critters. \n\n\nEaster Egg Hunt: A fun\, themed hunt hosted at the dive site—perfect for kids and those looking to “educate and inspire” future divers. \n\n\nCitizen Science: The weekend often features talks on the “Great Egg Case Hunt\,” helping divers and beachgoers contribute to local shark and ray conservation. \n\n\nWhy Join Jeff’s Diving World?\n\n\nExpert Instruction: Led by PADI Qualified Instructors specializing in everything from Open Water to Advanced Wreck and Nitrox training. \n\n\nElite Equipment: Jeff’s Diving World is a proud partner of O’Three\, ensuring participants have access to the “Gold Standard” of thermal protection for the chilly April waters. \n\n\nCommunity Vibe: Known for hosting BBQ dive weekends and social events that bring the South West diving community together. \n\n\n
URL:http://jeffsdivingworld.co.uk/event/easter-diving-weekend-with-jeffs-diving-world/
LOCATION:Smugglers Cott\, Looe\, Cornwall\, Smugglers Cott\, Looe\, Cornwall\, United Kingdom
CATEGORIES:Dive Cornwall,Diving Events,Diving Events UK,Diving Holidays,Diving Weekend
ATTACH;FMTTYPE=image/jpeg:http://jeffsdivingworld.co.uk/wp-content/uploads/2026/02/easter-weekend.jpg
ORGANIZER;CN="Jeffs%20Diving%20World":MAILTO:jeff@jeffsdivingworld.co.uk
END:VEVENT
END:VCALENDAR