BEGIN:VCALENDAR
VERSION:2.0
PRODID:-//Jeffs Diving World - ECPv4.9.13//NONSGML v1.0//EN
CALSCALE:GREGORIAN
METHOD:PUBLISH
X-WR-CALNAME:Jeffs Diving World
X-ORIGINAL-URL:http://jeffsdivingworld.co.uk
X-WR-CALDESC:Events for Jeffs Diving World
BEGIN:VTIMEZONE
TZID:Europe/London
BEGIN:DAYLIGHT
TZOFFSETFROM:+0000
TZOFFSETTO:+0100
TZNAME:BST
DTSTART:20210328T010000
END:DAYLIGHT
BEGIN:STANDARD
TZOFFSETFROM:+0100
TZOFFSETTO:+0000
TZNAME:GMT
DTSTART:20211031T010000
END:STANDARD
END:VTIMEZONE
BEGIN:VEVENT
DTSTART;TZID=Europe/London:20211017T110000
DTEND;TZID=Europe/London:20211017T140000
DTSTAMP:20260422T005021
CREATED:20210928T221524Z
LAST-MODIFIED:20211018T133558Z
UID:12921-1634468400-1634479200@jeffsdivingworld.co.uk
SUMMARY:First Aid For Friends of Grove Park
DESCRIPTION:First Aid For Friends of Grove Park – Weston-super-Mare\, Somerset.\nSUNDAY\, 17 OCTOBER 2021 FROM 11:00-14:00 \nA first – aid refresh session for the awesome volunteers of Grove Park\, Weston-super-Mare\, Somerset.\nWe will be conducting primary & secondry care + AED use for infants upto adults.\nThis training will be for John Boxshall & his team.\n\nFeel free to observe\, ask questions & even try one of the skills.\nI’ll be also taking bookings for first aid training courses & will be able to explain all first aid courses available.\n\nCheck out how this First Aid Training Refresher Day went.\n
URL:http://jeffsdivingworld.co.uk/event/first-aid-for-friends-of-grove-park/
LOCATION:Grove Park\, Weston-super-Mare\, Grove Park\, Weston-s-Mare\, Somerset\, BS2\, United Kingdom
CATEGORIES:1st Aid Training Course
ATTACH;FMTTYPE=image/jpeg:http://jeffsdivingworld.co.uk/wp-content/uploads/2021/09/Grove-Park-1st-Aid.jpg
ORGANIZER;CN="Jeffs%20Diving%20World":MAILTO:jeff@jeffsdivingworld.co.uk
END:VEVENT
END:VCALENDAR