BEGIN:VCALENDAR
VERSION:2.0
PRODID:-//Jeffs Diving World - ECPv4.9.13//NONSGML v1.0//EN
CALSCALE:GREGORIAN
METHOD:PUBLISH
X-WR-CALNAME:Jeffs Diving World
X-ORIGINAL-URL:http://jeffsdivingworld.co.uk
X-WR-CALDESC:Events for Jeffs Diving World
BEGIN:VTIMEZONE
TZID:Europe/London
BEGIN:DAYLIGHT
TZOFFSETFROM:+0000
TZOFFSETTO:+0100
TZNAME:BST
DTSTART:20250330T010000
END:DAYLIGHT
BEGIN:STANDARD
TZOFFSETFROM:+0100
TZOFFSETTO:+0000
TZNAME:GMT
DTSTART:20251026T010000
END:STANDARD
END:VTIMEZONE
BEGIN:VEVENT
DTSTART;TZID=Europe/London:20250419T090000
DTEND;TZID=Europe/London:20250419T170000
DTSTAMP:20260421T173708
CREATED:20250304T203706Z
LAST-MODIFIED:20250304T203706Z
UID:13508-1745053200-1745082000@jeffsdivingworld.co.uk
SUMMARY:Rock Pooling Day Out
DESCRIPTION:Rock pooling during the Easter weekend\, will have identification books on hand\, a container to observe what we find & then to release them.\nTher will also be a Easter egg hunt.\n\nThis is a FREE event & to educate & inspire future divers/ambassadors of our oceans.\n
URL:http://jeffsdivingworld.co.uk/event/rock-pooling-day-out/
LOCATION:Looe\, Cornwall\, Looe\, Cornwall\, United Kingdom
CATEGORIES:Events,Weekend Meetings
ORGANIZER;CN="Jeffs%20Diving%20World":MAILTO:jeff@jeffsdivingworld.co.uk
END:VEVENT
END:VCALENDAR