BEGIN:VCALENDAR
VERSION:2.0
PRODID:-//Jeffs Diving World - ECPv4.9.13//NONSGML v1.0//EN
CALSCALE:GREGORIAN
METHOD:PUBLISH
X-WR-CALNAME:Jeffs Diving World
X-ORIGINAL-URL:http://jeffsdivingworld.co.uk
X-WR-CALDESC:Events for Jeffs Diving World
BEGIN:VTIMEZONE
TZID:Europe/London
BEGIN:DAYLIGHT
TZOFFSETFROM:+0000
TZOFFSETTO:+0100
TZNAME:BST
DTSTART:20190331T010000
END:DAYLIGHT
BEGIN:STANDARD
TZOFFSETFROM:+0100
TZOFFSETTO:+0000
TZNAME:GMT
DTSTART:20191027T010000
END:STANDARD
END:VTIMEZONE
BEGIN:VEVENT
DTSTART;TZID=Europe/London:20190831T080000
DTEND;TZID=Europe/London:20190901T170000
DTSTAMP:20260425T122956
CREATED:20190519T004159Z
LAST-MODIFIED:20190716T211350Z
UID:12379-1567238400-1567357200@jeffsdivingworld.co.uk
SUMMARY:Lundy Island Diving
DESCRIPTION:FULLY BOOKED\nPlease enquire for future dive dates\n  \nDiving the beautiful clear waters of Lundy Island.\nDiving with the seals & you may be lucky to spot Basking shark.\nRopes off will be 8.00am prompt\, skippers orders.\nArrive @ clovelly by 7.00am to get your kit on the vessel etc. \n\nThis trip is £50.00 for members & £70.00 for non – members for 2 dives\, based on 10 divers & includes tea & coffee.\nThe journey out\, takes about 1hr to reach Lundy & there is a head on board the vessel & dry area. \nThis will be an amazing diving trip & if you haven’t dived Lundy\, a must do. \nContact me via my website www.jeffsdivingworld.co.uk \nGet on board \n\n
URL:http://jeffsdivingworld.co.uk/event/lundy-island-diving-2/
LOCATION:Lundy Island\, Clovelly\, Devon\, United Kingdom\, Clovelly
CATEGORIES:Diving Events,Lundy Island Diving
ATTACH;FMTTYPE=image/jpeg:http://jeffsdivingworld.co.uk/wp-content/uploads/2019/05/Lundy-Island-Diving-Event.jpg
ORGANIZER;CN="Jeffs%20Diving%20World":MAILTO:jeff@jeffsdivingworld.co.uk
END:VEVENT
END:VCALENDAR