BEGIN:VCALENDAR
VERSION:2.0
PRODID:-//Jeffs Diving World - ECPv4.9.13//NONSGML v1.0//EN
CALSCALE:GREGORIAN
METHOD:PUBLISH
X-WR-CALNAME:Jeffs Diving World
X-ORIGINAL-URL:http://jeffsdivingworld.co.uk
X-WR-CALDESC:Events for Jeffs Diving World
BEGIN:VTIMEZONE
TZID:Europe/London
BEGIN:DAYLIGHT
TZOFFSETFROM:+0000
TZOFFSETTO:+0100
TZNAME:BST
DTSTART:20220327T010000
END:DAYLIGHT
BEGIN:STANDARD
TZOFFSETFROM:+0100
TZOFFSETTO:+0000
TZNAME:GMT
DTSTART:20221030T010000
END:STANDARD
END:VTIMEZONE
BEGIN:VEVENT
DTSTART;TZID=Europe/London:20221124T180000
DTEND;TZID=Europe/London:20221124T220000
DTSTAMP:20260423T094357
CREATED:20220902T103347Z
LAST-MODIFIED:20220902T103348Z
UID:13187-1669312800-1669327200@jeffsdivingworld.co.uk
SUMMARY:For the love of sharks
DESCRIPTION:For the love of sharks – Live on Facebook\nTHURSDAY\, 24 NOVEMBER 2022 FROM 18:00-22:00 \nJoin us on the 24th November at the Royal Geographical Society\, London\, for an inspiring evening of talks\, presentations and stories to celebrate all things sharks.\n\nWe’ve got an outstanding and exciting group of speakers\, the very best in shark conservation\, science and advocacy\, to keep you on the edge of your seat. We’ll be teasing you with the announcement of speakers over the next few months\, so check this page regularly. As well as following us on our social media pages\, honestly you will not want to miss this event!\n\nThe evening will also host a brand new\, not seen before\, exclusive shark art exhibition\, giving you first insight to an exciting and ambitious new project for 2022. We’re bringing together artists from a variety of backgrounds who are passionate about wildlife\, conservation\, and using art as a tool for positive change. On the night we’ll be exhibiting their work\, and you’ll get a chance to meet some of the artists.\nWe look forward to celebrating sharks with you and sharing some big news!\n\n2022 is the Shark Trust 25th anniversary\, and this will be celebrated throughout the evening. Our very own Ali Hood\, Director of Conservation will be giving an exclusive presentation\, on the latest shark conservation and the importance of the next 10 years.\n\n
URL:http://jeffsdivingworld.co.uk/event/for-the-love-of-sharks/
LOCATION:Royal Geographical Society \, 1 Kensignton Gore \, London\, SW7 2AR\, Royal Geographical Society \, 1 Kensignton Gore \, London\, SW7 2AR\, London\, SW7 2AR\, United Kingdom
CATEGORIES:Events,Sharks
ATTACH;FMTTYPE=image/jpeg:http://jeffsdivingworld.co.uk/wp-content/uploads/2022/08/Image-11-08-2022-at-22.53.jpeg
END:VEVENT
END:VCALENDAR