BEGIN:VCALENDAR
VERSION:2.0
PRODID:-//Jeffs Diving World - ECPv4.9.13//NONSGML v1.0//EN
CALSCALE:GREGORIAN
METHOD:PUBLISH
X-WR-CALNAME:Jeffs Diving World
X-ORIGINAL-URL:http://jeffsdivingworld.co.uk
X-WR-CALDESC:Events for Jeffs Diving World
BEGIN:VTIMEZONE
TZID:Europe/London
BEGIN:DAYLIGHT
TZOFFSETFROM:+0000
TZOFFSETTO:+0100
TZNAME:BST
DTSTART:20200329T010000
END:DAYLIGHT
BEGIN:STANDARD
TZOFFSETFROM:+0100
TZOFFSETTO:+0000
TZNAME:GMT
DTSTART:20201025T010000
END:STANDARD
END:VTIMEZONE
BEGIN:VEVENT
DTSTART;TZID=Europe/London:20200725T090000
DTEND;TZID=Europe/London:20200726T170000
DTSTAMP:20260425T170901
CREATED:20200107T004917Z
LAST-MODIFIED:20200701T225320Z
UID:12522-1595667600-1595782800@jeffsdivingworld.co.uk
SUMMARY:Dive Lamorna Cove
DESCRIPTION:Dive Lamorna Cove\nDived this site way back when I was a PADI Rescue Diver & have very fond memories of this site.\nNever done a night dive here & sounds epic\, by the write up.\nOne for you Steve 👌👌& we could then all decide on a second spot as a group decision.\nAnother idea is arrive for a night dive & then a few day dives\, the next day 🤔👌. \nLamorna is a village\, valley and cove in west Cornwall\, England\, UK. It is on the Penwith peninsula approximately 4 miles south of Penzance and lies within the Cornwall Area of Outstanding Natural Beauty; almost a third of Cornwall has AONB designation\, with the same status and protection as a National Park \nLamorna is a small cove with a harbour and is situated about 5 miles SW of Penzance. There is car parking and boat launching (fees payable) and it gets very busy in the summer. \nThe inlet is sandy with kelp covered granite boulders to either side and is used by local clubs for training and winter diving. An SMB is recommended due to boat traffic. \nIn late summer Lamorna is a fantastic spot for a night dive. When we dived it last we were amazed by the variety of marine life. Just out side the harbour were shoals of sand eels with pollack feeding upon them\, we could feel the sand eels banging into us as we swam over them. Over to the East\, boardering the rocks were large numbers of red mullet that allowed us to aproach to within inches before darting off. \nA rare treat was the site of a young conger\, free swimming\, it was less than a metre long and only about 25mm in diameter. We saw a nice sized lobster and pipe fish and returning to the harbour we came across a small flat fish\, possibly a brill\, which I had resting on my hand at one time and a Cuttlefish which reluctantly discouraged the shore crab that it had just caught when it saw us coming. \nOn a subsequent night dive my buddy counted no less than eight cuttlefish\, including the one pictured above. \nThere is also good scenic boat diving just to the east of the inlet. \nMaximum depth 0 – ~12m \nRating -day *** STARS Night **** STARS \n
URL:http://jeffsdivingworld.co.uk/event/dive-lamorna-cove/
LOCATION:Lamorna Cove\, Lamorna cove cafe\, Lamorna Cove\, TR196XQ\, Penzance\, Cornwall\, pin Lamorna Cove Lamornacovecafe Lamorna Cove\, TR196XQ Penzance\, Cornwall\, Penzance\, Cornwall\, TR19 6XQ
CATEGORIES:Diving Events,Diving Events UK,Diving in Cornwall,Diving Weekend,Events,Padi Divng 2020
ATTACH;FMTTYPE=image/jpeg:http://jeffsdivingworld.co.uk/wp-content/uploads/2020/01/Diving-in-Cornwall.jpg
ORGANIZER;CN="Jeffs%20Diving%20World":MAILTO:jeff@jeffsdivingworld.co.uk
END:VEVENT
END:VCALENDAR